BEGIN:VCALENDAR
VERSION:2.0
PRODID:-//The Church - ECPv4.5.11//NONSGML v1.0//EN
CALSCALE:GREGORIAN
METHOD:PUBLISH
X-WR-CALNAME:The Church
X-ORIGINAL-URL:http://thechurch.ie
X-WR-CALDESC:Events for The Church
BEGIN:VEVENT
DTSTART;VALUE=DATE:20171027
DTEND;VALUE=DATE:20171030
DTSTAMP:20171024T025553
CREATED:20171002T125902Z
LAST-MODIFIED:20171002T125939Z
UID:6427-1509062400-1509407999@thechurch.ie
SUMMARY:Halloween Spooktacular 2017
DESCRIPTION:???? Our Annual Halloween Party Kicks off Friday 27th ???? \nWhere better to celebrate Halloween than in a 300 year old Church and Dublin&#8217;s Most UNIQUE Party Venue. Big parties taking place throughout Halloween weekend. Our Cellar Late Bar will be open with something to spook everyone! \nDrinks Specials | Live Acts | Fancy Dress | Monster Mash \nEnjoy Live Bands \,DJ&#8217;s & Performers ! Prizes for best dressed: \n?? FRIDAY NIGHT-27th ??\nTop DJ&#8217;s | Fancy Dress Competition | Late Bar |\n-2 FOR 1 COCKTAILS- ????????=????\n\n?? SATURDAY NIGHT-28th ??\nTop DJ&#8217;s | Fancy Dress Prizes | Late Bar | LIVE BAND ON MAIN STAGE from 10PM | DJ and BOngo Player in the Club till late \n?? SUNDAY NIGHT- 29th ??\nTop DJ&#8217;s | Fancy Dress Prizes | Late Bar | LIVE BAND ON MAIN STAGE from 10PM | Bar till \n?? MONDAY NIGHT-30th ??\nMarch of the Macnas: Join us for this years Macnas Parade at 7pm\nFamily Day: Competition for BEST DRESSED FAMILY: Winner recieves a Voucher for a Family Dinner and a voucher for Smyths Toystore. \nAccepting Bookings for groups of 10+ . Smaller parties are welcome to walk in on the night. Call +353 01 8280102 or e-mail reservations@thechurch.ie \nAdmission over 21&#8217;s | R.O.A.R | ???????????? ???????????????????????? \n
URL:http://thechurch.ie/upcoming-event/halloween-spooktacular-2017/
LOCATION:Junction of Mary St. & Jervis St. Dublin 1.\, Dublin\, Leinster\, D01 YX64\, Ireland
ATTACH;FMTTYPE=image/jpeg:http://thechurch.ie/wp-content/uploads/2017/10/Web_Tile.jpg
END:VEVENT
BEGIN:VEVENT
DTSTART;TZID=UTC+0:20171116T170000
DTEND;TZID=UTC+0:20171231T030000
DTSTAMP:20171024T025553
CREATED:20170213T134000Z
LAST-MODIFIED:20170825T145549Z
UID:3849-1510851600-1514689200@thechurch.ie
SUMMARY:Christmas At The Church Bar & Restaurant 2017
DESCRIPTION:Looking for somewhere a bit unusual to hold your Christmas party? \nLook no further: \nEach year we book out earlier and earlier. This year is no different with a number of popular dates already fully secured. We are unrivalled in providing the best festive party atmosphere than any other venue in the City. \nJoin us for festive lunch or dinner at the Gallery restaurant:Christmas Brochure 2017 \nDublin’s Ultimate Christmas Party Venue. \nOur ever popular 110 seater Gallery restaurant is the perfect location for Lunch or Dinner this Christmas\, guests are free to move to our Main Bar or Cellar Bar Nightclub afterwards. \nView and send our menus below: \nChristmasLunchMenu_2017\nChristmasDinnerMenu_2017\n3 Course Lunch + Tea/Coffee from €35.95 pp \n 3 course Dinner + Tea/Coffee  from  €44.95 pp Fri / Sat €54.95pp \nA discretionary Service Charge of 10% will be added to parties of 6 or more \n(We are closed Christmas Day) \nEmail us at reservations@thechurch.ie about availability! \nLooking for something more casual? Enquire now about our Bar Party Packages\, ranging from €12-€23 per person. \nChristmas Brochure 2017 \n
URL:http://thechurch.ie/upcoming-event/christmas-at-the-church-bar-restaurant-2017/
LOCATION:Junction of Mary St. & Jervis St. Dublin 1.\, Dublin\, Leinster\, D01 YX64\, Ireland
ATTACH;FMTTYPE=image/jpeg:http://thechurch.ie/wp-content/uploads/2017/02/Good-Christmas-Image_The-Church.jpg
END:VEVENT
BEGIN:VEVENT
DTSTART;VALUE=DATE:20171231
DTEND;VALUE=DATE:20171231
DTSTAMP:20171024T025553
CREATED:20170213T134015Z
LAST-MODIFIED:20170922T141037Z
UID:3851-1514678400-1514764799@thechurch.ie
SUMMARY:New Years Eve Dublin 2017/2018
DESCRIPTION:Are you planning on spending this New Year’s Eve in Dublin ? \nWe have lots planned for ringing in the New Year with You. All bookings include FREE Entry to our Late Bar & Club. \nGallery Restaurant\nOn New Year’s Eve we have two sittings for dinner in the Gallery restaurant. The first sitting is 6-8.30pm (the tables need to be vacated by 8:30pm max) serving a three course dinner priced at €60 per person. \nThe second sitting is 9.30pm where we will be serving a 6 course Champagne dinner on the lead up to our spectacular balloon drop at midnight and New Year’s Count down\, priced at €100 per person. \nCellar Bar\nWe can also offer you a table in the Cellar\, which is downstairs\, from 8pm until 10:30pm\, where you can make a booking for a Jazz Style Dinner at 8pm: You will be welcomed into the Cellar and offered an aperitif of a glass of prosecco. You will be sat at a table of 8\, and your order will be taken at 8:30 from the attached menu all at the same time. The entertainment will begin at 9pm until 10:30pm throughout dinner. From 11pm\, the large tables will be dismantled to make room for dancing\, and you are free to move up to the ground floor at midnight for the spectacular Balloon drop to ring in the new year. The Price of this menu is €80 per person \nMain Bar\nWe also have the option of booking you a table in the bar( Minimum of 4 adults) with finger food and Prosecco\,(Priced at €99.95 for 4 persons for Finger food and Prosecco and €139.95 for finger food and Champagne) These tables are available from 9pm and are right beneath our famous Balloon Drop! \nGet in touch with our reservations team and enquire about availability! \nBook Now \n
URL:http://thechurch.ie/upcoming-event/new-years-eve-dublin-2017-2018/
LOCATION:Junction of Mary St. & Jervis St. Dublin 1.\, Dublin\, Leinster\, D01 YX64\, Ireland
ATTACH;FMTTYPE=image/jpeg:http://thechurch.ie/wp-content/uploads/2017/02/BalloonDrop_2015_NYE-2015_12_30-13_58_19-UTC.jpg
END:VEVENT
BEGIN:VEVENT
DTSTART;VALUE=DATE:20180317
DTEND;VALUE=DATE:20180317
DTSTAMP:20171024T025553
CREATED:20171002T132821Z
LAST-MODIFIED:20171011T115931Z
UID:6435-1521244800-1521331199@thechurch.ie
SUMMARY:St Patricks Day in Dublin 2018
DESCRIPTION:The Church comes alive on St. Patrick&#8217;s Day\nHere at The Church there will be a host of entertainment. \nVisitors can enjoy traditional Irish Music and Dancing as well as Traditional Irish dishes. If you&#8217;re looking to catch a bite after the parade or enjoy some of our Green Beer and Irish Fayre\, come to the Church! \nThe Church Boasts a bar food menu on 4 floors\, join in with the craic agus ceol with our live  interactive Irish Musicians and Dancers! \nThe St. Patrick&#8217;s Day festival runs from Sunday 11th March &#8211; Wednesday March 21st 2018 nd .Please see below for a running order of our events. \nReservations can be made for dinner in The Gallery for a dinner\,making any occasion special. \nIrish Dancers at the Church on St Patricks Day\nMain Bar at the Church on St. Patricks Day\nBust of Arthur Guinness\n The St. Patricks Day Festival at the Church\n\n
URL:http://thechurch.ie/upcoming-event/st-patricks-day-dublin-2018/
LOCATION:Junction of Mary St. & Jervis St. Dublin 1.\, Dublin\, Leinster\, D01 YX64\, Ireland
ATTACH;FMTTYPE=image/jpeg:http://thechurch.ie/wp-content/uploads/2017/10/The-Church-St-patricks-Festival-website-tile-min.jpg
END:VEVENT
BEGIN:VEVENT
DTSTART;TZID=UTC+0:20180714T160000
DTEND;TZID=UTC+0:20180715T023000
DTSTAMP:20171024T025553
CREATED:20171003T100832Z
LAST-MODIFIED:20171003T101518Z
UID:6558-1531584000-1531621800@thechurch.ie
SUMMARY:Bastille Day 2018
DESCRIPTION:We are delighted to announce that we will be throwing a huge celebration for Bastille Day again this year and we are super excited about it!! \nNational French Independence! We have lots lined up to keep you all entertained! \n \n???????? **July 14th – Bastille Day Party! Fête de la Fédération **????????\nGames in Wolfe Tone Square\nTraditional French Music\nFrench Food Specials\nFrench DJ & Late Bar \n\nAll Welcome! Tous les Bienvenus!\nWe are working with a number of French organisations such as French Friday \, LePetitJournal.com Dublin Alliance Française de Dublin to ensure that it is an authentic French Celebration \nCall +353 1 8280102 or email reservations@thechurch.ie \n
URL:http://thechurch.ie/upcoming-event/bastille-day-2018/
LOCATION:Junction of Mary St. & Jervis St. Dublin 1.\, Dublin\, Leinster\, D01 YX64\, Ireland
ATTACH;FMTTYPE=image/jpeg:http://thechurch.ie/wp-content/uploads/2017/10/Bastille-Day.jpg
END:VEVENT
END:VCALENDAR